BEGIN:VCALENDAR
VERSION:2.0
PRODID:-//Salisbury Beach Events and Festivals - ECPv6.15.12.2//NONSGML v1.0//EN
CALSCALE:GREGORIAN
METHOD:PUBLISH
X-WR-CALNAME:Salisbury Beach Events and Festivals
X-ORIGINAL-URL:https://mysalisburybeach.com
X-WR-CALDESC:Events for Salisbury Beach Events and Festivals
REFRESH-INTERVAL;VALUE=DURATION:PT1H
X-Robots-Tag:noindex
X-PUBLISHED-TTL:PT1H
BEGIN:VTIMEZONE
TZID:America/New_York
BEGIN:DAYLIGHT
TZOFFSETFROM:-0500
TZOFFSETTO:-0400
TZNAME:EDT
DTSTART:20240310T070000
END:DAYLIGHT
BEGIN:STANDARD
TZOFFSETFROM:-0400
TZOFFSETTO:-0500
TZNAME:EST
DTSTART:20241103T060000
END:STANDARD
BEGIN:DAYLIGHT
TZOFFSETFROM:-0500
TZOFFSETTO:-0400
TZNAME:EDT
DTSTART:20250309T070000
END:DAYLIGHT
BEGIN:STANDARD
TZOFFSETFROM:-0400
TZOFFSETTO:-0500
TZNAME:EST
DTSTART:20251102T060000
END:STANDARD
BEGIN:DAYLIGHT
TZOFFSETFROM:-0500
TZOFFSETTO:-0400
TZNAME:EDT
DTSTART:20260308T070000
END:DAYLIGHT
BEGIN:STANDARD
TZOFFSETFROM:-0400
TZOFFSETTO:-0500
TZNAME:EST
DTSTART:20261101T060000
END:STANDARD
END:VTIMEZONE
BEGIN:VEVENT
DTSTART;TZID=America/New_York:20250812T203000
DTEND;TZID=America/New_York:20250812T220000
DTSTAMP:20260421T114019
CREATED:20250625T210529Z
LAST-MODIFIED:20250625T210828Z
UID:10000351-1755030600-1755036000@mysalisburybeach.com
SUMMARY:Sunset Movie | Snow White
DESCRIPTION:Every Tuesday | July 8 – August 19\nHosted by Salisbury Parks and Recreation Commision
URL:https://mysalisburybeach.com/event/sunset-movie-captain-america/
END:VEVENT
BEGIN:VEVENT
DTSTART;TZID=America/New_York:20250812T100000
DTEND;TZID=America/New_York:20250812T120000
DTSTAMP:20260421T114019
CREATED:20250418T165938Z
LAST-MODIFIED:20250418T165938Z
UID:10000327-1754992800-1755000000@mysalisburybeach.com
SUMMARY:Family Tuesdays at Salisbury Beach
DESCRIPTION:Hosted by Salisbury Parks & Recreation Commission \nTuesdays are for Families at Salisbury Beach\, enjoy the family fun in the Broadway loop every Tuesday from 10AM – 12PM before spending the day at the beach 🌊🏖\nBe sure to stick around for Sunset Movies behind the Oceanfront Stage! \nFor the most up to date information on Family Tuesdays visit their Facebook Page
URL:https://mysalisburybeach.com/event/family-tuesdays-at-salisbury-beach/2025-08-12/
CATEGORIES:Kids Activities,Special Events
END:VEVENT
BEGIN:VEVENT
DTSTART;TZID=America/New_York:20250811T170000
DTEND;TZID=America/New_York:20250811T210000
DTSTAMP:20260421T114019
CREATED:20250625T225940Z
LAST-MODIFIED:20250625T225940Z
UID:10000359-1754931600-1754946000@mysalisburybeach.com
SUMMARY:Teen Nights at Salisbury Beach
DESCRIPTION:Coming this summer\, Monday nights will be bussin.\nLawn games\, volleyball and live tunes. \nThe night will be welcome and engaging for ALL ages from any community but planned with young people in mind – substance free. \nHosted by Salisbury Parks and Recreation Commission
URL:https://mysalisburybeach.com/event/teen-nights-at-salisbury-beach/2025-08-11/
END:VEVENT
BEGIN:VEVENT
DTSTART;TZID=America/New_York:20250809T221500
DTEND;TZID=America/New_York:20250809T223500
DTSTAMP:20260421T114019
CREATED:20250417T150753Z
LAST-MODIFIED:20250516T164459Z
UID:10000318-1754777700-1754778900@mysalisburybeach.com
SUMMARY:Salisbury Beach Fireworks Show
DESCRIPTION:Beachfront Fireworks Show every Saturday of the Summer from 10:15PM – 10:35PM! \nStarting Saturday\, July 5th
URL:https://mysalisburybeach.com/event/salisbury-beach-fireworks-show/2025-08-09/
CATEGORIES:Fireworks Show
END:VEVENT
BEGIN:VEVENT
DTSTART;TZID=America/New_York:20250809T193000
DTEND;TZID=America/New_York:20250809T220000
DTSTAMP:20260421T114019
CREATED:20250407T201536Z
LAST-MODIFIED:20250407T201536Z
UID:10000283-1754767800-1754776800@mysalisburybeach.com
SUMMARY:STEELFINGERS on the Oceanfront Stage
DESCRIPTION:Free Oceanfront Concert \nGrab your chairs and blankets and enjoy some fun summer tunes\, Saturdays at 7:30PM on the Salisbury Oceanfront Stage. Benches and picnic tables available and plenty of dancing room for everyone! Enjoy takeout from local restaurants\, beach pizza\, ice cream and more\, while you listen to live music from one of the region’s hottest bands! Saturday\, August 9\, we welcome STEELFINGERS to the Salisbury Oceanfront Stage! \nAbout the Band\nSTEELFINGERS Band is a high energy\, classic rock & roll group you won’t want to miss! \n \n*The Salisbury Beach outdoor concerts are typically rain or shine. In the event of a severe weather cancellation\, we will post on our Facebook page
URL:https://mysalisburybeach.com/event/steelfingers-on-the-oceanfront-stage-2/
CATEGORIES:Beachfront Concerts
END:VEVENT
BEGIN:VEVENT
DTSTART;TZID=America/New_York:20250808T191500
DTEND;TZID=America/New_York:20250808T220000
DTSTAMP:20260421T114019
CREATED:20240524T054507Z
LAST-MODIFIED:20250417T133538Z
UID:10000298-1754680500-1754690400@mysalisburybeach.com
SUMMARY:Friday Night Beach Party
DESCRIPTION:It’s a beach party every Friday! Fun for the whole family at the oceanfront stage.\n7:15PM Ralphie B’s Rock & Roll Oldies Show with a special guest singer each week\n8:45PM DJ Jeff B Dance Party with today’s top tunes
URL:https://mysalisburybeach.com/event/friday-night-beach-party/2025-08-08/
CATEGORIES:Friday Night Beach Party
END:VEVENT
BEGIN:VEVENT
DTSTART;TZID=America/New_York:20250806T184500
DTEND;TZID=America/New_York:20250806T210000
DTSTAMP:20260421T114019
CREATED:20250516T181051Z
LAST-MODIFIED:20250516T181051Z
UID:10000335-1754505900-1754514000@mysalisburybeach.com
SUMMARY:Christian Concert Series
DESCRIPTION:Every Wednesday on the Oceanfront Stage | 6:45PM-9PM \nJune 25 – August 27\nFree Admission \nArrive early and enjoy a great family atmosphere\, including food stands\, restaurants\, arcades\, gift stores\, walk the Oceanfront Boardwalk\, ride the new Salisbury Beach Carousel\, and much more! Please bring beach/lounge chairs to enjoy the concert as seating is limited. \nGuest Parking $5 | Located at Broadway Parking \n 
URL:https://mysalisburybeach.com/event/christian-concert-series-10/2025-08-06/
CATEGORIES:Christian Concerts
END:VEVENT
BEGIN:VEVENT
DTSTART;TZID=America/New_York:20250805T203000
DTEND;TZID=America/New_York:20250805T220000
DTSTAMP:20260421T114019
CREATED:20250625T211949Z
LAST-MODIFIED:20250625T211949Z
UID:10000353-1754425800-1754431200@mysalisburybeach.com
SUMMARY:Sunset Movie | Captain America
DESCRIPTION:Every Tuesday | July 8 – August 19\nHosted by Salisbury Parks and Recreation Commision
URL:https://mysalisburybeach.com/event/sunset-movie-captain-america-2/
END:VEVENT
BEGIN:VEVENT
DTSTART;TZID=America/New_York:20250805T100000
DTEND;TZID=America/New_York:20250805T120000
DTSTAMP:20260421T114019
CREATED:20250418T165938Z
LAST-MODIFIED:20250418T165938Z
UID:10000326-1754388000-1754395200@mysalisburybeach.com
SUMMARY:Family Tuesdays at Salisbury Beach
DESCRIPTION:Hosted by Salisbury Parks & Recreation Commission \nTuesdays are for Families at Salisbury Beach\, enjoy the family fun in the Broadway loop every Tuesday from 10AM – 12PM before spending the day at the beach 🌊🏖\nBe sure to stick around for Sunset Movies behind the Oceanfront Stage! \nFor the most up to date information on Family Tuesdays visit their Facebook Page
URL:https://mysalisburybeach.com/event/family-tuesdays-at-salisbury-beach/2025-08-05/
CATEGORIES:Kids Activities,Special Events
END:VEVENT
BEGIN:VEVENT
DTSTART;TZID=America/New_York:20250804T170000
DTEND;TZID=America/New_York:20250804T210000
DTSTAMP:20260421T114019
CREATED:20250625T225940Z
LAST-MODIFIED:20250625T225940Z
UID:10000358-1754326800-1754341200@mysalisburybeach.com
SUMMARY:Teen Nights at Salisbury Beach
DESCRIPTION:Coming this summer\, Monday nights will be bussin.\nLawn games\, volleyball and live tunes. \nThe night will be welcome and engaging for ALL ages from any community but planned with young people in mind – substance free. \nHosted by Salisbury Parks and Recreation Commission
URL:https://mysalisburybeach.com/event/teen-nights-at-salisbury-beach/2025-08-04/
END:VEVENT
BEGIN:VEVENT
DTSTART;TZID=America/New_York:20250802T221500
DTEND;TZID=America/New_York:20250802T223500
DTSTAMP:20260421T114019
CREATED:20250417T150753Z
LAST-MODIFIED:20250516T164459Z
UID:10000317-1754172900-1754174100@mysalisburybeach.com
SUMMARY:Salisbury Beach Fireworks Show
DESCRIPTION:Beachfront Fireworks Show every Saturday of the Summer from 10:15PM – 10:35PM! \nStarting Saturday\, July 5th
URL:https://mysalisburybeach.com/event/salisbury-beach-fireworks-show/2025-08-02/
CATEGORIES:Fireworks Show
END:VEVENT
BEGIN:VEVENT
DTSTART;TZID=America/New_York:20250802T193000
DTEND;TZID=America/New_York:20250802T220000
DTSTAMP:20260421T114019
CREATED:20250407T201326Z
LAST-MODIFIED:20250407T201326Z
UID:10000282-1754163000-1754172000@mysalisburybeach.com
SUMMARY:Desolation Angels on the Oceanfront Stage
DESCRIPTION:Free Oceanfront Concert \nGrab your chairs and blankets and enjoy some fun summer tunes\, Saturdays at 7:30PM on the Salisbury Oceanfront Stage. Benches and picnic tables available and plenty of dancing room for everyone! Enjoy takeout from local restaurants\, beach pizza\, ice cream and more\, while you listen to live music from one of the region’s hottest bands! Saturday\, August 2\, we welcome Desolation Angels – Bad Company Tribute Band to the Salisbury Oceanfront Stage! \nAbout the Band \nThe musicians in Desolation Angels are seasoned veterans of the local music scene North of Boston. They came together in winter of 2021 to try to present the music of Bad Company and Paul Rodgers as authentically as possible. The band is comprised of Rick Reda on vocals\, Duffy Bouchard on drums\, Eric Hanson on keyboards\, Adam Elliott on bass\, and Brian Fernald and Kevin Meaney on guitars. \n \n*The Salisbury Beach outdoor concerts are typically rain or shine. In the event of a severe weather cancellation\, we will post on our Facebook page
URL:https://mysalisburybeach.com/event/desolation-angels-on-the-oceanfront-stage/
CATEGORIES:Beachfront Concerts
END:VEVENT
BEGIN:VEVENT
DTSTART;TZID=America/New_York:20250801T191500
DTEND;TZID=America/New_York:20250801T220000
DTSTAMP:20260421T114019
CREATED:20240524T054507Z
LAST-MODIFIED:20250417T133538Z
UID:10000297-1754075700-1754085600@mysalisburybeach.com
SUMMARY:Friday Night Beach Party
DESCRIPTION:It’s a beach party every Friday! Fun for the whole family at the oceanfront stage.\n7:15PM Ralphie B’s Rock & Roll Oldies Show with a special guest singer each week\n8:45PM DJ Jeff B Dance Party with today’s top tunes
URL:https://mysalisburybeach.com/event/friday-night-beach-party/2025-08-01/
CATEGORIES:Friday Night Beach Party
END:VEVENT
BEGIN:VEVENT
DTSTART;TZID=America/New_York:20250730T184500
DTEND;TZID=America/New_York:20250730T210000
DTSTAMP:20260421T114019
CREATED:20250516T181051Z
LAST-MODIFIED:20250516T181051Z
UID:10000334-1753901100-1753909200@mysalisburybeach.com
SUMMARY:Christian Concert Series
DESCRIPTION:Every Wednesday on the Oceanfront Stage | 6:45PM-9PM \nJune 25 – August 27\nFree Admission \nArrive early and enjoy a great family atmosphere\, including food stands\, restaurants\, arcades\, gift stores\, walk the Oceanfront Boardwalk\, ride the new Salisbury Beach Carousel\, and much more! Please bring beach/lounge chairs to enjoy the concert as seating is limited. \nGuest Parking $5 | Located at Broadway Parking \n 
URL:https://mysalisburybeach.com/event/christian-concert-series-10/2025-07-30/
CATEGORIES:Christian Concerts
END:VEVENT
BEGIN:VEVENT
DTSTART;TZID=America/New_York:20250729T203000
DTEND;TZID=America/New_York:20250729T220000
DTSTAMP:20260421T114019
CREATED:20250625T210402Z
LAST-MODIFIED:20250625T210402Z
UID:10000350-1753821000-1753826400@mysalisburybeach.com
SUMMARY:Sunset Movie | Harry and the Hendersons
DESCRIPTION:Every Tuesday | July 8 – August 19\nHosted by Salisbury Parks and Recreation Commision
URL:https://mysalisburybeach.com/event/sunset-movie-harry-and-the-hendersons/
END:VEVENT
BEGIN:VEVENT
DTSTART;TZID=America/New_York:20250729T100000
DTEND;TZID=America/New_York:20250729T120000
DTSTAMP:20260421T114019
CREATED:20250418T165938Z
LAST-MODIFIED:20250418T165938Z
UID:10000325-1753783200-1753790400@mysalisburybeach.com
SUMMARY:Family Tuesdays at Salisbury Beach
DESCRIPTION:Hosted by Salisbury Parks & Recreation Commission \nTuesdays are for Families at Salisbury Beach\, enjoy the family fun in the Broadway loop every Tuesday from 10AM – 12PM before spending the day at the beach 🌊🏖\nBe sure to stick around for Sunset Movies behind the Oceanfront Stage! \nFor the most up to date information on Family Tuesdays visit their Facebook Page
URL:https://mysalisburybeach.com/event/family-tuesdays-at-salisbury-beach/2025-07-29/
CATEGORIES:Kids Activities,Special Events
END:VEVENT
BEGIN:VEVENT
DTSTART;TZID=America/New_York:20250728T170000
DTEND;TZID=America/New_York:20250728T210000
DTSTAMP:20260421T114019
CREATED:20250625T225940Z
LAST-MODIFIED:20250625T225940Z
UID:10000357-1753722000-1753736400@mysalisburybeach.com
SUMMARY:Teen Nights at Salisbury Beach
DESCRIPTION:Coming this summer\, Monday nights will be bussin.\nLawn games\, volleyball and live tunes. \nThe night will be welcome and engaging for ALL ages from any community but planned with young people in mind – substance free. \nHosted by Salisbury Parks and Recreation Commission
URL:https://mysalisburybeach.com/event/teen-nights-at-salisbury-beach/2025-07-28/
END:VEVENT
BEGIN:VEVENT
DTSTART;TZID=America/New_York:20250727T180000
DTEND;TZID=America/New_York:20250727T193000
DTSTAMP:20260421T114019
CREATED:20250407T200907Z
LAST-MODIFIED:20250407T200907Z
UID:10000281-1753639200-1753644600@mysalisburybeach.com
SUMMARY:The Merrimack Valley Concert Band on the Oceanfront Stage
DESCRIPTION:Sunday\, July 27\, we welcome The Merrimack Valley Concert Band to the Salisbury Oceanfront Stage! 6PM – 7:30PM. \nAbout The Merrimack Valley Concert Band\n \nThe Merrimack Valley Concert Band incorporated as it’s own non-profit corporation in the Commonwealth of Massachusetts in April 2004 and has been marching in parades and presenting concerts throughout the North Shore and seacoast New Hampshire regions since. The Band repertoire is a broad mix of popular\, jazz\, swing\, patriotic and Broadway tunes taken from the ‘Great American Songbook.’ Instrumentation includes wind instruments\, drums\, glockenspiel – even a string bass. Members\, who range in age from 12 to 90\, represent many levels of musical ability and experience! \n\n\n \n*The Salisbury Beach outdoor concerts are typically rain or shine. In the event of a severe weather cancellation\, we will post on our Facebook page
URL:https://mysalisburybeach.com/event/the-merrimack-valley-concert-band-on-the-oceanfront-stage-2/
CATEGORIES:Beachfront Concerts
END:VEVENT
BEGIN:VEVENT
DTSTART;TZID=America/New_York:20250726T221500
DTEND;TZID=America/New_York:20250726T223500
DTSTAMP:20260421T114019
CREATED:20250417T150753Z
LAST-MODIFIED:20250516T164459Z
UID:10000316-1753568100-1753569300@mysalisburybeach.com
SUMMARY:Salisbury Beach Fireworks Show
DESCRIPTION:Beachfront Fireworks Show every Saturday of the Summer from 10:15PM – 10:35PM! \nStarting Saturday\, July 5th
URL:https://mysalisburybeach.com/event/salisbury-beach-fireworks-show/2025-07-26/
CATEGORIES:Fireworks Show
END:VEVENT
BEGIN:VEVENT
DTSTART;TZID=America/New_York:20250726T193000
DTEND;TZID=America/New_York:20250726T220000
DTSTAMP:20260421T114019
CREATED:20250407T195958Z
LAST-MODIFIED:20250407T200358Z
UID:10000280-1753558200-1753567200@mysalisburybeach.com
SUMMARY:All Summer Long—Musical Tribute to the Beach Boys on the Oceanfront Stage
DESCRIPTION:Free Oceanfront Concert \nGrab your chairs and blankets and enjoy some fun summer tunes\, Saturdays at 7:30PM on the Salisbury Oceanfront Stage. Benches and picnic tables available and plenty of dancing room for everyone! Enjoy takeout from local restaurants\, beach pizza\, ice cream and more\, while you listen to live music from one of the region’s hottest bands! Saturday\, July 26\, we welcome All Summer Long—Musical Tribute to the Beach Boys to the Salisbury Oceanfront Stage! \nAbout the Band \nAll Summer Long is a band focused on the music of the Beach Boys and not necessarily the look. These 7 professional musicians from New England fell in love with their music from childhood and perform their music with the authenticity of the original recordings. After all\, it’s about the music right!  That’s why All Summer Long is recognized for representing the Beach Boys’ music as close to the original recordings as possible and they put on a heck of a show the whole family can enjoy. \n \n*The Salisbury Beach outdoor concerts are typically rain or shine. In the event of a severe weather cancellation\, we will post on our Facebook page
URL:https://mysalisburybeach.com/event/all-summer-long-musical-tribute-to-the-beach-boys-on-the-oceanfront-stage-2/
CATEGORIES:Beachfront Concerts
END:VEVENT
BEGIN:VEVENT
DTSTART;TZID=America/New_York:20250725T200000
DTEND;TZID=America/New_York:20250725T220000
DTSTAMP:20260421T114019
CREATED:20241226T202944Z
LAST-MODIFIED:20241226T203026Z
UID:10000276-1753473600-1753480800@mysalisburybeach.com
SUMMARY:16th Annual Buffett Beach Blast
DESCRIPTION:Featuring Changes in Latitudes\nPremier Jimmy Buffett Tribute\nFriday\, July 25\n6PM Tailgate Party | 8PM Concert\nMusic Hall Doors Open at 7PM \nConcert Tickets\n$35 General Admission & Reserved Table Seating\n+ $3 Additional Day of Show \nTailgate Party Tickets\n$30 Per Vehicle\nShow Ticket Not Included\nTailgate Party Policies \nAbout Buffett Beach Blast\nOne of the most fun events of the summer! \nFire up the grills\, crank the tunes\, pour the margaritas\, and decorate the car.  Start your evening at the tailgate party (separate ticket) in the adjacent parking lot then move inside for the show. Changes In Latitudes is the country’s premier tribute to the Mayor of Margaritaville\, Jimmy Buffett. This nationally acclaimed band travels the country with beach balls and leis flying\, dancing conga lines\, and “Trop Rock” fun for all. It’s the ultimate beach party with amazingly authentic reproduction of the Jimmy Buffett concert experience. \nSteve Kareta mimics Jimmy’s casual\, storyteller style\, while these world-class musicians\, travelling with a full tropical stage set-up\, will take you on a musical cruise through the sun-drenched waters of the Caribbean. You can expect to hear such classics as “Margaritaville”\, “Come Monday”\, “Cheeseburger In Paradise”\, “Volcano”\, and\, of course\, “Changes In Latitudes\, Changes In Attitudes”\, as well as other crowd-pleasing favorites\, like “Brown Eyed Girl”\, “Southern Cross”\, “Another Saturday Night”\, and the Alan Jackson / Jimmy Buffett hit “It’s Five O’clock Somewhere”. \nIt’s all to benefit the Salisbury Beach Partnership’s 11 weeks of free Summer outdoor concerts and fireworks shows!
URL:https://mysalisburybeach.com/event/16th-annual-buffett-beach-blast/
CATEGORIES:Special Events
END:VEVENT
BEGIN:VEVENT
DTSTART;TZID=America/New_York:20250725T191500
DTEND;TZID=America/New_York:20250725T220000
DTSTAMP:20260421T114019
CREATED:20240524T054507Z
LAST-MODIFIED:20250417T133538Z
UID:10000296-1753470900-1753480800@mysalisburybeach.com
SUMMARY:Friday Night Beach Party
DESCRIPTION:It’s a beach party every Friday! Fun for the whole family at the oceanfront stage.\n7:15PM Ralphie B’s Rock & Roll Oldies Show with a special guest singer each week\n8:45PM DJ Jeff B Dance Party with today’s top tunes
URL:https://mysalisburybeach.com/event/friday-night-beach-party/2025-07-25/
CATEGORIES:Friday Night Beach Party
END:VEVENT
BEGIN:VEVENT
DTSTART;TZID=America/New_York:20250723T184500
DTEND;TZID=America/New_York:20250723T210000
DTSTAMP:20260421T114019
CREATED:20250516T181051Z
LAST-MODIFIED:20250516T181051Z
UID:10000333-1753296300-1753304400@mysalisburybeach.com
SUMMARY:Christian Concert Series
DESCRIPTION:Every Wednesday on the Oceanfront Stage | 6:45PM-9PM \nJune 25 – August 27\nFree Admission \nArrive early and enjoy a great family atmosphere\, including food stands\, restaurants\, arcades\, gift stores\, walk the Oceanfront Boardwalk\, ride the new Salisbury Beach Carousel\, and much more! Please bring beach/lounge chairs to enjoy the concert as seating is limited. \nGuest Parking $5 | Located at Broadway Parking \n 
URL:https://mysalisburybeach.com/event/christian-concert-series-10/2025-07-23/
CATEGORIES:Christian Concerts
END:VEVENT
BEGIN:VEVENT
DTSTART;TZID=America/New_York:20250722T203000
DTEND;TZID=America/New_York:20250722T220000
DTSTAMP:20260421T114019
CREATED:20250625T210204Z
LAST-MODIFIED:20250625T210204Z
UID:10000349-1753216200-1753221600@mysalisburybeach.com
SUMMARY:Sunset Movie | Harold and the Purple Crayon
DESCRIPTION:Every Tuesday | July 8 – August 19\nHosted by Salisbury Parks and Recreation Commision
URL:https://mysalisburybeach.com/event/sunset-movie-harold-and-the-purple-crayon/
END:VEVENT
BEGIN:VEVENT
DTSTART;TZID=America/New_York:20250722T100000
DTEND;TZID=America/New_York:20250722T120000
DTSTAMP:20260421T114019
CREATED:20250418T165938Z
LAST-MODIFIED:20250418T165938Z
UID:10000324-1753178400-1753185600@mysalisburybeach.com
SUMMARY:Family Tuesdays at Salisbury Beach
DESCRIPTION:Hosted by Salisbury Parks & Recreation Commission \nTuesdays are for Families at Salisbury Beach\, enjoy the family fun in the Broadway loop every Tuesday from 10AM – 12PM before spending the day at the beach 🌊🏖\nBe sure to stick around for Sunset Movies behind the Oceanfront Stage! \nFor the most up to date information on Family Tuesdays visit their Facebook Page
URL:https://mysalisburybeach.com/event/family-tuesdays-at-salisbury-beach/2025-07-22/
CATEGORIES:Kids Activities,Special Events
END:VEVENT
BEGIN:VEVENT
DTSTART;TZID=America/New_York:20250721T170000
DTEND;TZID=America/New_York:20250721T210000
DTSTAMP:20260421T114019
CREATED:20250625T225940Z
LAST-MODIFIED:20250625T225940Z
UID:10000356-1753117200-1753131600@mysalisburybeach.com
SUMMARY:Teen Nights at Salisbury Beach
DESCRIPTION:Coming this summer\, Monday nights will be bussin.\nLawn games\, volleyball and live tunes. \nThe night will be welcome and engaging for ALL ages from any community but planned with young people in mind – substance free. \nHosted by Salisbury Parks and Recreation Commission
URL:https://mysalisburybeach.com/event/teen-nights-at-salisbury-beach/2025-07-21/
END:VEVENT
BEGIN:VEVENT
DTSTART;TZID=America/New_York:20250719T221500
DTEND;TZID=America/New_York:20250719T223500
DTSTAMP:20260421T114019
CREATED:20250417T150753Z
LAST-MODIFIED:20250516T164459Z
UID:10000315-1752963300-1752964500@mysalisburybeach.com
SUMMARY:Salisbury Beach Fireworks Show
DESCRIPTION:Beachfront Fireworks Show every Saturday of the Summer from 10:15PM – 10:35PM! \nStarting Saturday\, July 5th
URL:https://mysalisburybeach.com/event/salisbury-beach-fireworks-show/2025-07-19/
CATEGORIES:Fireworks Show
END:VEVENT
BEGIN:VEVENT
DTSTART;TZID=America/New_York:20250719T193000
DTEND;TZID=America/New_York:20250719T220000
DTSTAMP:20260421T114019
CREATED:20250407T195558Z
LAST-MODIFIED:20250407T195558Z
UID:10000279-1752953400-1752962400@mysalisburybeach.com
SUMMARY:Beatlejuice on the Oceanfront Stage
DESCRIPTION:Free Oceanfront Concert \nGrab your chairs and blankets and enjoy some fun summer tunes\, Saturdays at 7:30PM on the Salisbury Oceanfront Stage. Benches and picnic tables available and plenty of dancing room for everyone! Enjoy takeout from local restaurants\, beach pizza\, ice cream and more\, while you listen to live music from one of the region’s hottest bands! Saturday\, July 19\, we welcome Beatlejuice to the Salisbury Oceanfront Stage! \nAbout the Band \nFor over 24 yrs. Beatlejuice has been faithfully reproducing some of the greatest Beatles songs ever written. Beatlejuice covers every era of the Beatles catalog and onto the solo careers of the boys from Liverpool. Renowned cover band Beatlejuice has been entertaining audiences with spot-on renditions of Beatles classics for more than two decades. Beatlejuice uses a cast of vocalists and arrangements that match the original recordings of the Fab Four note-for-note. Audiences can close their eyes and imagine John\, Paul\, George and Ringo playing some of the greatest and most influential songs ever written. Beatlejuice performs songs from the full span of the Beatles career\, from “Love Me Do” to “Let It Be.” The band was formed in 1994 by the late Brad Delp\, renowned vocalist for the band Boston\, and drummer John Muzzy from the band Farrenheit. The two friends saw Bob Squires’ Beatles cover band Merseyside play in Newburyport and decided to start their own. Their first official gig was at Bleachers in Salem on a Wednesday night\, which Delp and Muzzy advertised with posters that simply said\, “ALL BEATLES ALL NIGHT.” The legendary Johnny D’s restaurant and music club in Somerville’s Davis Square served as a home base for the band\, which played both nights of every eighth weekend there. Their performances became so popular that the club had to create a special reservation system that would open on Saturday mornings two weeks before the show. After Delp’s passing in 2007\, band members Muzzy\, Steve Baker\, Joe Holaday\, Dave Mitchell\, Evan Gianoulis and Rich Bartlett continued to perform under the name Beatlejuice and Friends\, beginning with memorial concerts for Delp at the Regent Theatre in Arlington. Those friends were a group of vocalists including Mike Girard of The Fools\, Jimmy Rogers of Velvet Elvis\, Buddy Bernard of Aces & Eights\, and Bob Jennings. \n \n*The Salisbury Beach outdoor concerts are typically rain or shine. In the event of a severe weather cancellation\, we will post on our Facebook page
URL:https://mysalisburybeach.com/event/beatlejuice-on-the-oceanfront-stage-3/
CATEGORIES:Beachfront Concerts
END:VEVENT
BEGIN:VEVENT
DTSTART;TZID=America/New_York:20250718T191500
DTEND;TZID=America/New_York:20250718T220000
DTSTAMP:20260421T114019
CREATED:20240524T054507Z
LAST-MODIFIED:20250417T133538Z
UID:10000295-1752866100-1752876000@mysalisburybeach.com
SUMMARY:Friday Night Beach Party
DESCRIPTION:It’s a beach party every Friday! Fun for the whole family at the oceanfront stage.\n7:15PM Ralphie B’s Rock & Roll Oldies Show with a special guest singer each week\n8:45PM DJ Jeff B Dance Party with today’s top tunes
URL:https://mysalisburybeach.com/event/friday-night-beach-party/2025-07-18/
CATEGORIES:Friday Night Beach Party
END:VEVENT
BEGIN:VEVENT
DTSTART;TZID=America/New_York:20250716T184500
DTEND;TZID=America/New_York:20250716T210000
DTSTAMP:20260421T114019
CREATED:20250516T181051Z
LAST-MODIFIED:20250516T181051Z
UID:10000332-1752691500-1752699600@mysalisburybeach.com
SUMMARY:Christian Concert Series
DESCRIPTION:Every Wednesday on the Oceanfront Stage | 6:45PM-9PM \nJune 25 – August 27\nFree Admission \nArrive early and enjoy a great family atmosphere\, including food stands\, restaurants\, arcades\, gift stores\, walk the Oceanfront Boardwalk\, ride the new Salisbury Beach Carousel\, and much more! Please bring beach/lounge chairs to enjoy the concert as seating is limited. \nGuest Parking $5 | Located at Broadway Parking \n 
URL:https://mysalisburybeach.com/event/christian-concert-series-10/2025-07-16/
CATEGORIES:Christian Concerts
END:VEVENT
END:VCALENDAR